BEGIN:VCALENDAR
VERSION:2.0
PRODID:-//Recapping Everything in Reading, MA - ECPv6.15.20//NONSGML v1.0//EN
CALSCALE:GREGORIAN
METHOD:PUBLISH
X-ORIGINAL-URL:https://www.readingrecap.com
X-WR-CALDESC:Events for Recapping Everything in Reading, MA
REFRESH-INTERVAL;VALUE=DURATION:PT1H
X-Robots-Tag:noindex
X-PUBLISHED-TTL:PT1H
BEGIN:VTIMEZONE
TZID:America/New_York
BEGIN:DAYLIGHT
TZOFFSETFROM:-0500
TZOFFSETTO:-0400
TZNAME:EDT
DTSTART:20220313T070000
END:DAYLIGHT
BEGIN:STANDARD
TZOFFSETFROM:-0400
TZOFFSETTO:-0500
TZNAME:EST
DTSTART:20221106T060000
END:STANDARD
BEGIN:DAYLIGHT
TZOFFSETFROM:-0500
TZOFFSETTO:-0400
TZNAME:EDT
DTSTART:20230312T070000
END:DAYLIGHT
BEGIN:STANDARD
TZOFFSETFROM:-0400
TZOFFSETTO:-0500
TZNAME:EST
DTSTART:20231105T060000
END:STANDARD
BEGIN:DAYLIGHT
TZOFFSETFROM:-0500
TZOFFSETTO:-0400
TZNAME:EDT
DTSTART:20240310T070000
END:DAYLIGHT
BEGIN:STANDARD
TZOFFSETFROM:-0400
TZOFFSETTO:-0500
TZNAME:EST
DTSTART:20241103T060000
END:STANDARD
END:VTIMEZONE
BEGIN:VEVENT
DTSTART;TZID=America/New_York:20230323T130000
DTEND;TZID=America/New_York:20230323T190000
DTSTAMP:20260420T124153
CREATED:20230318T043500Z
LAST-MODIFIED:20230318T043500Z
UID:10000318-1679576400-1679598000@www.readingrecap.com
SUMMARY:Reading Blood Drive
DESCRIPTION:Reading Community \nBlood Drives \nGood Samaritan Lodge \n110 Haven Street\, Reading \nThursday\, March 23\, 2023 \n1:30 p.m. to 7:00 p.m. \nFor an appointment\, please visit redcrossblood.org and enter: Reading or call 1-800-RED CROSS (1-800-733-2767)
URL:https://www.readingrecap.com/event/reading-blood-drive-3/
LOCATION:Masonic Lodge\, 110 Haven Street\, Reading\, MA\, 01867\, United States
CATEGORIES:Donation
ATTACH;FMTTYPE=image/jpeg:https://www.readingrecap.com/wp-content/uploads/2023/03/Blood-Drive-2023.jpg
END:VEVENT
END:VCALENDAR