BEGIN:VCALENDAR
VERSION:2.0
PRODID:-//Recapping Everything in Reading, MA - ECPv6.15.20//NONSGML v1.0//EN
CALSCALE:GREGORIAN
METHOD:PUBLISH
X-ORIGINAL-URL:https://www.readingrecap.com
X-WR-CALDESC:Events for Recapping Everything in Reading, MA
REFRESH-INTERVAL;VALUE=DURATION:PT1H
X-Robots-Tag:noindex
X-PUBLISHED-TTL:PT1H
BEGIN:VTIMEZONE
TZID:America/New_York
BEGIN:DAYLIGHT
TZOFFSETFROM:-0500
TZOFFSETTO:-0400
TZNAME:EDT
DTSTART:20220313T070000
END:DAYLIGHT
BEGIN:STANDARD
TZOFFSETFROM:-0400
TZOFFSETTO:-0500
TZNAME:EST
DTSTART:20221106T060000
END:STANDARD
BEGIN:DAYLIGHT
TZOFFSETFROM:-0500
TZOFFSETTO:-0400
TZNAME:EDT
DTSTART:20230312T070000
END:DAYLIGHT
BEGIN:STANDARD
TZOFFSETFROM:-0400
TZOFFSETTO:-0500
TZNAME:EST
DTSTART:20231105T060000
END:STANDARD
BEGIN:DAYLIGHT
TZOFFSETFROM:-0500
TZOFFSETTO:-0400
TZNAME:EDT
DTSTART:20240310T070000
END:DAYLIGHT
BEGIN:STANDARD
TZOFFSETFROM:-0400
TZOFFSETTO:-0500
TZNAME:EST
DTSTART:20241103T060000
END:STANDARD
END:VTIMEZONE
BEGIN:VEVENT
DTSTART;TZID=America/New_York:20230318T190000
DTEND;TZID=America/New_York:20230318T230000
DTSTAMP:20260421T220204
CREATED:20230206T055034Z
LAST-MODIFIED:20230206T055034Z
UID:10000233-1679166000-1679180400@www.readingrecap.com
SUMMARY:Women's League Annual Gala
DESCRIPTION:Please join us for dinner\, dancing and a silent auction for the Women’s League of Reading Annual Gala.\nThis year’s theme is “Reading Homecoming” so come dressed in your best black or red cocktail attire.\n\nFor more info or to purchase tickets\, please visit www.auctria.events/2023wlrgala or www.wlreading.org/2023gala.html\n\nAlso\, big thank you to our Diamond Sponsors!\nBozetti’s Group – www.bozettis.com\nStoneham Ford – www.stonehamford.com
URL:https://www.readingrecap.com/event/womens-league-annual-gala/
LOCATION:Meadow Brook Golf Club\, 292 Grove St\, Reading\, MA\, 01867\, United States
CATEGORIES:Fundraiser
ATTACH;FMTTYPE=image/jpeg:https://www.readingrecap.com/wp-content/uploads/2023/02/Womens-League-Gala.jpg
ORGANIZER;CN="Women's League of Reading":MAILTO:wlreadingma@gmail.com
END:VEVENT
END:VCALENDAR