BEGIN:VCALENDAR
VERSION:2.0
PRODID:-//Recapping Everything in Reading, MA - ECPv6.15.20//NONSGML v1.0//EN
CALSCALE:GREGORIAN
METHOD:PUBLISH
X-WR-CALNAME:Recapping Everything in Reading, MA
X-ORIGINAL-URL:https://www.readingrecap.com
X-WR-CALDESC:Events for Recapping Everything in Reading, MA
REFRESH-INTERVAL;VALUE=DURATION:PT1H
X-Robots-Tag:noindex
X-PUBLISHED-TTL:PT1H
BEGIN:VTIMEZONE
TZID:America/New_York
BEGIN:DAYLIGHT
TZOFFSETFROM:-0500
TZOFFSETTO:-0400
TZNAME:EDT
DTSTART:20220313T070000
END:DAYLIGHT
BEGIN:STANDARD
TZOFFSETFROM:-0400
TZOFFSETTO:-0500
TZNAME:EST
DTSTART:20221106T060000
END:STANDARD
BEGIN:DAYLIGHT
TZOFFSETFROM:-0500
TZOFFSETTO:-0400
TZNAME:EDT
DTSTART:20230312T070000
END:DAYLIGHT
BEGIN:STANDARD
TZOFFSETFROM:-0400
TZOFFSETTO:-0500
TZNAME:EST
DTSTART:20231105T060000
END:STANDARD
BEGIN:DAYLIGHT
TZOFFSETFROM:-0500
TZOFFSETTO:-0400
TZNAME:EDT
DTSTART:20240310T070000
END:DAYLIGHT
BEGIN:STANDARD
TZOFFSETFROM:-0400
TZOFFSETTO:-0500
TZNAME:EST
DTSTART:20241103T060000
END:STANDARD
END:VTIMEZONE
BEGIN:VEVENT
DTSTART;TZID=America/New_York:20230316T190000
DTEND;TZID=America/New_York:20230316T200000
DTSTAMP:20260422T174230
CREATED:20230308T190103Z
LAST-MODIFIED:20230308T190103Z
UID:10000315-1678993200-1678996800@www.readingrecap.com
SUMMARY:Mindful Parenting Skills
DESCRIPTION:Are you a parent struggling to balance all of the things that you want to do in your life? Simply setting the goal & sticking to it may not be enough when the priorities of life get busy. Meet with a psychotherapist & health coach who can show you how to create a mental\, nutritional and physical balance so that you can feel good in your body and in mind. \nRegistration is suggested but NOT required. For additional information\, visit the library website using the link below:
URL:https://www.readingrecap.com/event/mindful-parenting-skills/
LOCATION:Reading Public Library\, 64 Middlesex Ave\, Reading\, MA\, 01867\, United States
CATEGORIES:Reading Public Library
ATTACH;FMTTYPE=image/jpeg:https://www.readingrecap.com/wp-content/uploads/2023/03/FB-Event-Mindful-Parenting-Skills-1200-×-628-px.jpg
END:VEVENT
END:VCALENDAR