BEGIN:VCALENDAR
VERSION:2.0
PRODID:-//Recapping Everything in Reading, MA - ECPv6.15.20//NONSGML v1.0//EN
CALSCALE:GREGORIAN
METHOD:PUBLISH
X-WR-CALNAME:Recapping Everything in Reading, MA
X-ORIGINAL-URL:https://www.readingrecap.com
X-WR-CALDESC:Events for Recapping Everything in Reading, MA
REFRESH-INTERVAL;VALUE=DURATION:PT1H
X-Robots-Tag:noindex
X-PUBLISHED-TTL:PT1H
BEGIN:VTIMEZONE
TZID:America/New_York
BEGIN:DAYLIGHT
TZOFFSETFROM:-0500
TZOFFSETTO:-0400
TZNAME:EDT
DTSTART:20220313T070000
END:DAYLIGHT
BEGIN:STANDARD
TZOFFSETFROM:-0400
TZOFFSETTO:-0500
TZNAME:EST
DTSTART:20221106T060000
END:STANDARD
BEGIN:DAYLIGHT
TZOFFSETFROM:-0500
TZOFFSETTO:-0400
TZNAME:EDT
DTSTART:20230312T070000
END:DAYLIGHT
BEGIN:STANDARD
TZOFFSETFROM:-0400
TZOFFSETTO:-0500
TZNAME:EST
DTSTART:20231105T060000
END:STANDARD
BEGIN:DAYLIGHT
TZOFFSETFROM:-0500
TZOFFSETTO:-0400
TZNAME:EDT
DTSTART:20240310T070000
END:DAYLIGHT
BEGIN:STANDARD
TZOFFSETFROM:-0400
TZOFFSETTO:-0500
TZNAME:EST
DTSTART:20241103T060000
END:STANDARD
END:VTIMEZONE
BEGIN:VEVENT
DTSTART;TZID=America/New_York:20230115T080000
DTEND;TZID=America/New_York:20230315T170000
DTSTAMP:20260419T135427
CREATED:20230119T153855Z
LAST-MODIFIED:20230119T153855Z
UID:10000205-1673769600-1678899600@www.readingrecap.com
SUMMARY:🧷 Diaper Drive at Expressions Hair Studio
DESCRIPTION:Here is our new effort to help families in need.\nThis new Diaper Drive will help many.\n\n\nTogether we can make a difference!\n\n\n\nFrom January 15 to March 15\n\nPlease only size 4\,5\,6\n\n\n\nDrop off locations:\n\n\n*565 Main Street\, Reading\, MA at Expressions Hair Studio.\n\n\n*60 Latisquama Road\, Southborough\, MA
URL:https://www.readingrecap.com/event/%f0%9f%a7%b7-diaper-drive-at-expressions-hair-studio/
LOCATION:Expressions Hair Studio\, 565 Main Street\, Reading\, MA\, 01867\, United States
CATEGORIES:Donation,Fundraiser
ATTACH;FMTTYPE=image/jpeg:https://www.readingrecap.com/wp-content/uploads/2023/01/Diaper-Drive.jpg
ORGANIZER;CN="Expressions Hair Studio":MAILTO:expressionshairstudio21@gmail.com
END:VEVENT
BEGIN:VEVENT
DTSTART;TZID=America/New_York:20230314T160000
DTEND;TZID=America/New_York:20230314T180000
DTSTAMP:20260419T135427
CREATED:20230306T210826Z
LAST-MODIFIED:20230306T211128Z
UID:10000311-1678809600-1678816800@www.readingrecap.com
SUMMARY:Teen Meet Up: Zines!
DESCRIPTION:DIY ZINES!\nWhat are zines? How do I make one? What’s the Teen Art Showcase?\nStop by the Reading Public Library’s Teen Room to learn about zines\, the Teen Art Showcase\, and create some of your own zines!\nSupplies and instructions will be available for teens at the every Tuesday from 4-6pm during the month of March.
URL:https://www.readingrecap.com/event/teen-meet-up-zines/2023-03-14/
LOCATION:Reading Public Library\, 64 Middlesex Ave\, Reading\, MA\, 01867\, United States
CATEGORIES:Reading Public Library
ATTACH;FMTTYPE=image/jpeg:https://www.readingrecap.com/wp-content/uploads/2023/03/FB-Event-Zines-Teen-Meet-Up.jpg
END:VEVENT
BEGIN:VEVENT
DTSTART;TZID=America/New_York:20230314T190000
DTEND;TZID=America/New_York:20230314T220000
DTSTAMP:20260419T135427
CREATED:20230228T054511Z
LAST-MODIFIED:20230228T054511Z
UID:10000247-1678820400-1678831200@www.readingrecap.com
SUMMARY:RCTV Election Programming
DESCRIPTION:To help inform Reading residents about the upcoming 2023 local election on April 4\, RCTV Studios will host Candidates’ Forums for contested town-wide offices. Candidates for Select Board\, School Committee\, Library Board of Trustees\, and Municipal Light Board are invited on Tuesday\, March 14\, starting at 7 pm. Town Moderator Alan Foulds will moderate the program and feature questions posed to the candidates by local media representatives. The forum will air live on RCTV’s public access channel\, Comcast channel 9\, 2131 HD\, and Verizon channel 31\, and will be replayed numerous times before the local election on April 4. \nCandidates seeking office for uncontested seats are invited to appear on “Community Connections” for a casual one-on-one interview with RCTV member Sherri VandenAkker. VandenAkker has hosted the program since 2019 and previously served on the School Committee and Library Board of Trustees. Check rctv.org for showtimes. \nLive Election coverage and results will air on election evening Tuesday\, April 4\, starting at 8 pm. \nRCTV Studios is Reading’s public access television studio on Main Street in Reading. For more information about RCTV\, you can visit its website at RCTV.org.
URL:https://www.readingrecap.com/event/rctv-election-programming/
LOCATION:RCTV Studios\, 557 Main Street\, Reading\, MA\, 01867\, United States
CATEGORIES:Elections
ATTACH;FMTTYPE=image/jpeg:https://www.readingrecap.com/wp-content/uploads/2023/02/RCTV-2023.jpeg
END:VEVENT
END:VCALENDAR