BEGIN:VCALENDAR
VERSION:2.0
PRODID:-//Recapping Everything in Reading, MA - ECPv6.15.20//NONSGML v1.0//EN
CALSCALE:GREGORIAN
METHOD:PUBLISH
X-WR-CALNAME:Recapping Everything in Reading, MA
X-ORIGINAL-URL:https://www.readingrecap.com
X-WR-CALDESC:Events for Recapping Everything in Reading, MA
REFRESH-INTERVAL;VALUE=DURATION:PT1H
X-Robots-Tag:noindex
X-PUBLISHED-TTL:PT1H
BEGIN:VTIMEZONE
TZID:America/New_York
BEGIN:DAYLIGHT
TZOFFSETFROM:-0500
TZOFFSETTO:-0400
TZNAME:EDT
DTSTART:20220313T070000
END:DAYLIGHT
BEGIN:STANDARD
TZOFFSETFROM:-0400
TZOFFSETTO:-0500
TZNAME:EST
DTSTART:20221106T060000
END:STANDARD
BEGIN:DAYLIGHT
TZOFFSETFROM:-0500
TZOFFSETTO:-0400
TZNAME:EDT
DTSTART:20230312T070000
END:DAYLIGHT
BEGIN:STANDARD
TZOFFSETFROM:-0400
TZOFFSETTO:-0500
TZNAME:EST
DTSTART:20231105T060000
END:STANDARD
BEGIN:DAYLIGHT
TZOFFSETFROM:-0500
TZOFFSETTO:-0400
TZNAME:EDT
DTSTART:20240310T070000
END:DAYLIGHT
BEGIN:STANDARD
TZOFFSETFROM:-0400
TZOFFSETTO:-0500
TZNAME:EST
DTSTART:20241103T060000
END:STANDARD
END:VTIMEZONE
BEGIN:VEVENT
DTSTART;TZID=America/New_York:20230115T080000
DTEND;TZID=America/New_York:20230315T170000
DTSTAMP:20260419T170632
CREATED:20230119T153855Z
LAST-MODIFIED:20230119T153855Z
UID:10000205-1673769600-1678899600@www.readingrecap.com
SUMMARY:🧷 Diaper Drive at Expressions Hair Studio
DESCRIPTION:Here is our new effort to help families in need.\nThis new Diaper Drive will help many.\n\n\nTogether we can make a difference!\n\n\n\nFrom January 15 to March 15\n\nPlease only size 4\,5\,6\n\n\n\nDrop off locations:\n\n\n*565 Main Street\, Reading\, MA at Expressions Hair Studio.\n\n\n*60 Latisquama Road\, Southborough\, MA
URL:https://www.readingrecap.com/event/%f0%9f%a7%b7-diaper-drive-at-expressions-hair-studio/
LOCATION:Expressions Hair Studio\, 565 Main Street\, Reading\, MA\, 01867\, United States
CATEGORIES:Donation,Fundraiser
ATTACH;FMTTYPE=image/jpeg:https://www.readingrecap.com/wp-content/uploads/2023/01/Diaper-Drive.jpg
ORGANIZER;CN="Expressions Hair Studio":MAILTO:expressionshairstudio21@gmail.com
END:VEVENT
BEGIN:VEVENT
DTSTART;TZID=America/New_York:20230311T140000
DTEND;TZID=America/New_York:20230311T153000
DTSTAMP:20260419T170632
CREATED:20230216T024300Z
LAST-MODIFIED:20230216T024300Z
UID:10000242-1678543200-1678548600@www.readingrecap.com
SUMMARY:The Little Mermaid JR.
DESCRIPTION:Journey “under the sea” with Ariel and her aquatic friends in Disney’s The Little Mermaid JR.\, adapted from Disney’s Broadway production and the motion picture (featuring the enormously popular Academy Award-winning music and delightfully charming book and lyrics). Based on one of Hans Christian Andersen’s most beloved stories\, Disney’s The Little Mermaid JR. is an enchanting look at the sacrifices we all make for love and acceptance. In a magical underwater kingdom\, the beautiful young mermaid\, Ariel\, longs to leave her ocean home — and her fins — behind and live in the world above. But first\, she’ll have to defy her father\, King Triton\, make a deal with the evil sea witch\, Ursula\, and convince the handsome Prince Eric that she’s the girl whose enchanting voice he’s been seeking. Written to flow seamlessly between land and sea\, Disney’s The Little Mermaid JR. provides plenty of opportunities to bring these locations to life through creative movement and configurations. The fantasy of being underwater means your entire cast and crew can let their imaginations run wild. \nParker Middle School Auditorium\n45 Temple Street\nReading\, MA\n01867\nGet directions \n978-344-2800\nparkerdramaticketsales@gmail.com \nTickets: https://www.showtix4u.com/event-details/70616 \n\n\nPricing\n\nAdult – $15.00\n\n\nK-12 Student – $12.00\n\nThursday\, March 9\, 2023 6:30 PM\nFriday\, March 10\, 2023 7:00 PM\nSaturday\, March 11\, 2023 2:00 PM (extremely limited amount of tickets remain)
URL:https://www.readingrecap.com/event/the-little-mermaid-jr/2023-03-11/
LOCATION:Walter S. Parker Middle School\, 45 Temple Street\, Reading\, MA\, 01867\, United States
CATEGORIES:Entertainment
ATTACH;FMTTYPE=image/jpeg:https://www.readingrecap.com/wp-content/uploads/2023/02/Little-Mermaid-Drama.jpg
ORGANIZER;CN="Parker Drama":MAILTO:parkerdramaticketsales@gmail.com
END:VEVENT
BEGIN:VEVENT
DTSTART;TZID=America/New_York:20230311T140000
DTEND;TZID=America/New_York:20230311T180000
DTSTAMP:20260419T170632
CREATED:20230124T042205Z
LAST-MODIFIED:20230124T042245Z
UID:10000208-1678543200-1678557600@www.readingrecap.com
SUMMARY:Community Pickleball Day
DESCRIPTION:-Community Pickleball Day- \nSaturday\, March 11th from 2pm – 6pm \nIndoors at Reading Memorial High School Hawkes FieldHouse\nRecreational & competitive play by level\, beginner & advanced beginner clinics\, intro to pickleball for beginners.\nWe need volunteers. If you’re interested\, please contact readingmapickleball@gmail.com \nMore information to follow as the event drawers closer \nInterested in participating? contact readingmapickleball@gmail.com to receive updates\nProceeds will go towards advancing pickleball in Reading\, MA through Reading Pickleball Players Association.
URL:https://www.readingrecap.com/event/community-pickleball-day/
LOCATION:Reading Memorial High School\, 62 Oakland Rd\, Reading\, MA\, 01867\, United States
CATEGORIES:Fundraiser,Sports
ATTACH;FMTTYPE=image/jpeg:https://www.readingrecap.com/wp-content/uploads/2023/01/Community-Pickleball-Day.jpg
ORGANIZER;CN="Reading Pickleball Players Association":MAILTO:readingmapickleball@gmail.com
END:VEVENT
BEGIN:VEVENT
DTSTART;TZID=America/New_York:20230311T190000
DTEND;TZID=America/New_York:20230311T223000
DTSTAMP:20260419T170632
CREATED:20230215T215342Z
LAST-MODIFIED:20230215T215342Z
UID:10000239-1678561200-1678573800@www.readingrecap.com
SUMMARY:Reading Lions Comedy Night Fundraiser- March 11
DESCRIPTION:March is a long month—a laugh will help you get through! The Reading Lions Comedy Night returns to The West Side Social Club with 3\, count ‘em\, 3 comics on March 11. \nWe’re thrilled to present some of the funniest comics in the area including a Boston favorite\, Paul Gilligan\, as well as Carolyn Plummer\, and Dave Rattigan. Bring your family\, neighbors\, and friends to enjoy a night of laughs\, raffles\, BYOF\, and a cash bar. The evening’s proceeds go to Lions charities which support our community via the Food Pantry\, scholarship fund\, wellness exams\, vision care\, and more. Doors open at 7:00pm for an 8:00pm show. \nTickets are available at ReadingLions.org\, from ScampsComedy.com\, or from your friendly Reading Lions Club member. Tickets are $25 each\, tables seat 8 for $200. Mark your calendar and we’ll see you there!
URL:https://www.readingrecap.com/event/reading-lions-comedy-night-fundraiser-march-11/
LOCATION:West Side Social Club\, Wakefield\, 4 Harrington Court\, Wakefield\, 01880
CATEGORIES:Entertainment
ATTACH;FMTTYPE=image/jpeg:https://www.readingrecap.com/wp-content/uploads/2023/02/Lions-Comedy-Night-Flyer.jpg
ORGANIZER;CN="Reading Lions Club":MAILTO:info@readinglionsclub.org
END:VEVENT
END:VCALENDAR