BEGIN:VCALENDAR
VERSION:2.0
PRODID:-//Recapping Everything in Reading, MA - ECPv6.15.20//NONSGML v1.0//EN
CALSCALE:GREGORIAN
METHOD:PUBLISH
X-WR-CALNAME:Recapping Everything in Reading, MA
X-ORIGINAL-URL:https://www.readingrecap.com
X-WR-CALDESC:Events for Recapping Everything in Reading, MA
REFRESH-INTERVAL;VALUE=DURATION:PT1H
X-Robots-Tag:noindex
X-PUBLISHED-TTL:PT1H
BEGIN:VTIMEZONE
TZID:America/New_York
BEGIN:DAYLIGHT
TZOFFSETFROM:-0500
TZOFFSETTO:-0400
TZNAME:EDT
DTSTART:20220313T070000
END:DAYLIGHT
BEGIN:STANDARD
TZOFFSETFROM:-0400
TZOFFSETTO:-0500
TZNAME:EST
DTSTART:20221106T060000
END:STANDARD
BEGIN:DAYLIGHT
TZOFFSETFROM:-0500
TZOFFSETTO:-0400
TZNAME:EDT
DTSTART:20230312T070000
END:DAYLIGHT
BEGIN:STANDARD
TZOFFSETFROM:-0400
TZOFFSETTO:-0500
TZNAME:EST
DTSTART:20231105T060000
END:STANDARD
BEGIN:DAYLIGHT
TZOFFSETFROM:-0500
TZOFFSETTO:-0400
TZNAME:EDT
DTSTART:20240310T070000
END:DAYLIGHT
BEGIN:STANDARD
TZOFFSETFROM:-0400
TZOFFSETTO:-0500
TZNAME:EST
DTSTART:20241103T060000
END:STANDARD
END:VTIMEZONE
BEGIN:VEVENT
DTSTART;TZID=America/New_York:20230115T080000
DTEND;TZID=America/New_York:20230315T170000
DTSTAMP:20260419T232547
CREATED:20230119T153855Z
LAST-MODIFIED:20230119T153855Z
UID:10000205-1673769600-1678899600@www.readingrecap.com
SUMMARY:🧷 Diaper Drive at Expressions Hair Studio
DESCRIPTION:Here is our new effort to help families in need.\nThis new Diaper Drive will help many.\n\n\nTogether we can make a difference!\n\n\n\nFrom January 15 to March 15\n\nPlease only size 4\,5\,6\n\n\n\nDrop off locations:\n\n\n*565 Main Street\, Reading\, MA at Expressions Hair Studio.\n\n\n*60 Latisquama Road\, Southborough\, MA
URL:https://www.readingrecap.com/event/%f0%9f%a7%b7-diaper-drive-at-expressions-hair-studio/
LOCATION:Expressions Hair Studio\, 565 Main Street\, Reading\, MA\, 01867\, United States
CATEGORIES:Donation,Fundraiser
ATTACH;FMTTYPE=image/jpeg:https://www.readingrecap.com/wp-content/uploads/2023/01/Diaper-Drive.jpg
ORGANIZER;CN="Expressions Hair Studio":MAILTO:expressionshairstudio21@gmail.com
END:VEVENT
BEGIN:VEVENT
DTSTART;TZID=America/New_York:20230308T153000
DTEND;TZID=America/New_York:20230308T163000
DTSTAMP:20260419T232547
CREATED:20230110T025044Z
LAST-MODIFIED:20230110T025044Z
UID:10000204-1678289400-1678293000@www.readingrecap.com
SUMMARY:TBW: Creative Writing for Teens!
DESCRIPTION:Join our creative writing group TBW: To Be Written \nTeens in grades 8-12 will participate in creative writing exercises and hands on activities. \nMeetings are held once a month on Wednesday at 3:30pm.\nJanuary 11th – Blackout Poetry\nFebruary 8th – Found Poems\nMarch 8th – Three Spread Book \nRegister using the link below.
URL:https://www.readingrecap.com/event/tbw-creative-writing-for-teens/2023-03-08/
LOCATION:Reading Public Library\, 64 Middlesex Ave\, Reading\, MA\, 01867\, United States
CATEGORIES:Reading Public Library
ATTACH;FMTTYPE=image/png:https://www.readingrecap.com/wp-content/uploads/2023/01/FB-Event-TBW1-2.png
END:VEVENT
BEGIN:VEVENT
DTSTART;TZID=America/New_York:20230308T160000
DTEND;TZID=America/New_York:20230308T170000
DTSTAMP:20260419T232547
CREATED:20230105T131240Z
LAST-MODIFIED:20230105T131240Z
UID:10000189-1678291200-1678294800@www.readingrecap.com
SUMMARY:Therapeutic Program for Adults with McFarlane Arts
DESCRIPTION:We all seek meaningful relationships and opportunities for growth and progress in our lives. Adults with developmental disabilities including ASD and I/DD also benefit from the opportunity to express themselves and be heard and understood. This series of programs is designed for adults ages 22+ with disabilities\, including autism spectrum disorder (ASD)\, and intellectual and developmental disabilities (I/DD). They are not respite programs; caregivers are required to attend. \nCome join us in exploring your inner artist in fun and creative ways with local artist Susan McFarlane of McFarlane Arts. You can register for one session or all 6 sessions. \nFor additional information and to register visit the Reading Public Library’s website.
URL:https://www.readingrecap.com/event/therapeutic-program-for-adults-with-mcfarlane-arts/2023-03-08/
LOCATION:Reading Public Library\, 64 Middlesex Ave\, Reading\, MA\, 01867\, United States
CATEGORIES:Elder and Human Services,Reading Public Library
ATTACH;FMTTYPE=image/png:https://www.readingrecap.com/wp-content/uploads/2023/01/FB-Event-McFarlane-Arts-for-Adults.png
END:VEVENT
END:VCALENDAR