BEGIN:VCALENDAR
VERSION:2.0
PRODID:-//Recapping Everything in Reading, MA - ECPv6.15.20//NONSGML v1.0//EN
CALSCALE:GREGORIAN
METHOD:PUBLISH
X-WR-CALNAME:Recapping Everything in Reading, MA
X-ORIGINAL-URL:https://www.readingrecap.com
X-WR-CALDESC:Events for Recapping Everything in Reading, MA
REFRESH-INTERVAL;VALUE=DURATION:PT1H
X-Robots-Tag:noindex
X-PUBLISHED-TTL:PT1H
BEGIN:VTIMEZONE
TZID:America/New_York
BEGIN:DAYLIGHT
TZOFFSETFROM:-0500
TZOFFSETTO:-0400
TZNAME:EDT
DTSTART:20220313T070000
END:DAYLIGHT
BEGIN:STANDARD
TZOFFSETFROM:-0400
TZOFFSETTO:-0500
TZNAME:EST
DTSTART:20221106T060000
END:STANDARD
BEGIN:DAYLIGHT
TZOFFSETFROM:-0500
TZOFFSETTO:-0400
TZNAME:EDT
DTSTART:20230312T070000
END:DAYLIGHT
BEGIN:STANDARD
TZOFFSETFROM:-0400
TZOFFSETTO:-0500
TZNAME:EST
DTSTART:20231105T060000
END:STANDARD
BEGIN:DAYLIGHT
TZOFFSETFROM:-0500
TZOFFSETTO:-0400
TZNAME:EDT
DTSTART:20240310T070000
END:DAYLIGHT
BEGIN:STANDARD
TZOFFSETFROM:-0400
TZOFFSETTO:-0500
TZNAME:EST
DTSTART:20241103T060000
END:STANDARD
END:VTIMEZONE
BEGIN:VEVENT
DTSTART;TZID=America/New_York:20230115T080000
DTEND;TZID=America/New_York:20230315T170000
DTSTAMP:20260419T232615
CREATED:20230119T153855Z
LAST-MODIFIED:20230119T153855Z
UID:10000205-1673769600-1678899600@www.readingrecap.com
SUMMARY:🧷 Diaper Drive at Expressions Hair Studio
DESCRIPTION:Here is our new effort to help families in need.\nThis new Diaper Drive will help many.\n\n\nTogether we can make a difference!\n\n\n\nFrom January 15 to March 15\n\nPlease only size 4\,5\,6\n\n\n\nDrop off locations:\n\n\n*565 Main Street\, Reading\, MA at Expressions Hair Studio.\n\n\n*60 Latisquama Road\, Southborough\, MA
URL:https://www.readingrecap.com/event/%f0%9f%a7%b7-diaper-drive-at-expressions-hair-studio/
LOCATION:Expressions Hair Studio\, 565 Main Street\, Reading\, MA\, 01867\, United States
CATEGORIES:Donation,Fundraiser
ATTACH;FMTTYPE=image/jpeg:https://www.readingrecap.com/wp-content/uploads/2023/01/Diaper-Drive.jpg
ORGANIZER;CN="Expressions Hair Studio":MAILTO:expressionshairstudio21@gmail.com
END:VEVENT
BEGIN:VEVENT
DTSTART;TZID=America/New_York:20230307T160000
DTEND;TZID=America/New_York:20230307T180000
DTSTAMP:20260419T232615
CREATED:20230306T210826Z
LAST-MODIFIED:20230306T211128Z
UID:10000255-1678204800-1678212000@www.readingrecap.com
SUMMARY:Teen Meet Up: Zines!
DESCRIPTION:DIY ZINES!\nWhat are zines? How do I make one? What’s the Teen Art Showcase?\nStop by the Reading Public Library’s Teen Room to learn about zines\, the Teen Art Showcase\, and create some of your own zines!\nSupplies and instructions will be available for teens at the every Tuesday from 4-6pm during the month of March.
URL:https://www.readingrecap.com/event/teen-meet-up-zines/2023-03-07/
LOCATION:Reading Public Library\, 64 Middlesex Ave\, Reading\, MA\, 01867\, United States
CATEGORIES:Reading Public Library
ATTACH;FMTTYPE=image/jpeg:https://www.readingrecap.com/wp-content/uploads/2023/03/FB-Event-Zines-Teen-Meet-Up.jpg
END:VEVENT
BEGIN:VEVENT
DTSTART;TZID=America/New_York:20230307T190000
DTEND;TZID=America/New_York:20230307T200000
DTSTAMP:20260419T232615
CREATED:20230126T030657Z
LAST-MODIFIED:20230126T030657Z
UID:10000210-1678215600-1678219200@www.readingrecap.com
SUMMARY:Dirtbag\, Massachusetts: An Evening with Isaac Fitzgerald
DESCRIPTION:Join us for a very special author event! Isaac Fitzgerald has lived many lives. He’s been an altar boy\, a bartender\, a fat kid\, a smuggler\, a biker\, a prince of New England. But before all that\, he was a bomb that exploded his parents’ lives-or so he was told. In his memoir Dirtbag\, Massachusetts\, Fitzgerald\, with warmth and humor\, recounts his ongoing search for forgiveness\, a more far-reaching vision of masculinity\, and a more expansive definition of family and self. \nFor additional information on how to register for this online event\, use the library link below.
URL:https://www.readingrecap.com/event/dirtbag-massachusetts-an-evening-with-isaac-fitzgerald/
LOCATION:Virtual / Online Event
CATEGORIES:Reading Public Library
ATTACH;FMTTYPE=image/jpeg:https://www.readingrecap.com/wp-content/uploads/2023/01/FB-Event-Save-the-Date-Dirtbag-Massachusetts-.jpg
END:VEVENT
END:VCALENDAR