BEGIN:VCALENDAR
VERSION:2.0
PRODID:-//Recapping Everything in Reading, MA - ECPv6.15.20//NONSGML v1.0//EN
CALSCALE:GREGORIAN
METHOD:PUBLISH
X-ORIGINAL-URL:https://www.readingrecap.com
X-WR-CALDESC:Events for Recapping Everything in Reading, MA
REFRESH-INTERVAL;VALUE=DURATION:PT1H
X-Robots-Tag:noindex
X-PUBLISHED-TTL:PT1H
BEGIN:VTIMEZONE
TZID:America/New_York
BEGIN:DAYLIGHT
TZOFFSETFROM:-0500
TZOFFSETTO:-0400
TZNAME:EDT
DTSTART:20210314T070000
END:DAYLIGHT
BEGIN:STANDARD
TZOFFSETFROM:-0400
TZOFFSETTO:-0500
TZNAME:EST
DTSTART:20211107T060000
END:STANDARD
BEGIN:DAYLIGHT
TZOFFSETFROM:-0500
TZOFFSETTO:-0400
TZNAME:EDT
DTSTART:20220313T070000
END:DAYLIGHT
BEGIN:STANDARD
TZOFFSETFROM:-0400
TZOFFSETTO:-0500
TZNAME:EST
DTSTART:20221106T060000
END:STANDARD
BEGIN:DAYLIGHT
TZOFFSETFROM:-0500
TZOFFSETTO:-0400
TZNAME:EDT
DTSTART:20230312T070000
END:DAYLIGHT
BEGIN:STANDARD
TZOFFSETFROM:-0400
TZOFFSETTO:-0500
TZNAME:EST
DTSTART:20231105T060000
END:STANDARD
BEGIN:DAYLIGHT
TZOFFSETFROM:-0500
TZOFFSETTO:-0400
TZNAME:EDT
DTSTART:20240310T070000
END:DAYLIGHT
BEGIN:STANDARD
TZOFFSETFROM:-0400
TZOFFSETTO:-0500
TZNAME:EST
DTSTART:20241103T060000
END:STANDARD
END:VTIMEZONE
BEGIN:VEVENT
DTSTART;VALUE=DATE:20221207
DTEND;VALUE=DATE:20230301
DTSTAMP:20260420T221647
CREATED:20221207T220336Z
LAST-MODIFIED:20221207T220336Z
UID:10000161-1670371200-1677628799@www.readingrecap.com
SUMMARY:Winter Reading Program-Around the World in 80 Days!
DESCRIPTION:Travel the world without leaving your house! Around the World in 80 Days is our winter reading program for kids and families. Pick up your reading passport\, decide where you want to visit\, and start reading! \nThis program is for all ages and is generously sponsored by the Friends of the Reading Public Library. The challenge is to read 7 books in 80(ish) days\, and have each book be about a different continent. You can read\, listen to an audiobook\, listen to music\, or watch a movie that takes place on different continents. \nFor more information and to see our book lists\, follow the link below\, and then stop by to browse our continental displays. Passports are available in person at the Children’s desk\, or click the passport image on our webpage link to download and print your own at home. \nEvery time you visit a country\, we will stamp the passport. Once you finish all 7\, pick up your prize at the Children’s Desk! Have fun exploring and learning this winter.
URL:https://www.readingrecap.com/event/winter-reading-program-around-the-world-in-80-days/
LOCATION:Reading Public Library\, 64 Middlesex Ave\, Reading\, MA\, 01867\, United States
CATEGORIES:Reading Public Library
ATTACH;FMTTYPE=image/jpeg:https://www.readingrecap.com/wp-content/uploads/2022/12/RPL_Around-the-World-in-80-Days.jpg
END:VEVENT
BEGIN:VEVENT
DTSTART;TZID=America/New_York:20230115T080000
DTEND;TZID=America/New_York:20230315T170000
DTSTAMP:20260420T221647
CREATED:20230119T153855Z
LAST-MODIFIED:20230119T153855Z
UID:10000205-1673769600-1678899600@www.readingrecap.com
SUMMARY:🧷 Diaper Drive at Expressions Hair Studio
DESCRIPTION:Here is our new effort to help families in need.\nThis new Diaper Drive will help many.\n\n\nTogether we can make a difference!\n\n\n\nFrom January 15 to March 15\n\nPlease only size 4\,5\,6\n\n\n\nDrop off locations:\n\n\n*565 Main Street\, Reading\, MA at Expressions Hair Studio.\n\n\n*60 Latisquama Road\, Southborough\, MA
URL:https://www.readingrecap.com/event/%f0%9f%a7%b7-diaper-drive-at-expressions-hair-studio/
LOCATION:Expressions Hair Studio\, 565 Main Street\, Reading\, MA\, 01867\, United States
CATEGORIES:Donation,Fundraiser
ATTACH;FMTTYPE=image/jpeg:https://www.readingrecap.com/wp-content/uploads/2023/01/Diaper-Drive.jpg
ORGANIZER;CN="Expressions Hair Studio":MAILTO:expressionshairstudio21@gmail.com
END:VEVENT
BEGIN:VEVENT
DTSTART;VALUE=DATE:20230121
DTEND;VALUE=DATE:20230301
DTSTAMP:20260420T221647
CREATED:20230124T040005Z
LAST-MODIFIED:20230124T040408Z
UID:10000207-1674259200-1677628799@www.readingrecap.com
SUMMARY:Friends of Reading Track Raffle
DESCRIPTION:BRUINS FANS!! Please help support the RMHS track teams this season. Take a chance to win bruins tickets for March 9th against the Oilers.\n\nRaffles are $10 each or 3 for $20\nVenmo caryn-Hayes-3 with a note (last four digits of phone number if needed: 3797) and ticket numbers will be sent back to you.\n\n\nThe drawing will be held on February 28th\, 2023
URL:https://www.readingrecap.com/event/friends-of-reading-track-raffle/
LOCATION:Online
CATEGORIES:Fundraiser
ATTACH;FMTTYPE=image/jpeg:https://www.readingrecap.com/wp-content/uploads/2023/01/Friends-of-Reading-Track-Raffle.jpg
END:VEVENT
BEGIN:VEVENT
DTSTART;TZID=America/New_York:20230131T190000
DTEND;TZID=America/New_York:20230131T210000
DTSTAMP:20260420T221647
CREATED:20230120T011242Z
LAST-MODIFIED:20230120T011433Z
UID:10000206-1675191600-1675198800@www.readingrecap.com
SUMMARY:Senior Center Public Forum
DESCRIPTION:TUESDAY\, JANUARY 31 7:00PM AT THE PLEASANT STREET CENTER\nWE WANT TO HEAR FROM YOU!\nJoin us for a public forum on Tuesday\, January 31st beginning at 7pm as we continue the discussion on the future direction of the Reading Senior Center/Community Center\nThe Pleasant Street Center is located at: 49 Pleasant Street\, Reading\, MA
URL:https://www.readingrecap.com/event/senior-center-public-forum/
LOCATION:Pleasant Street Center\, 49 Pleasant Street\, Reading\, MA\, 01867\, United States
CATEGORIES:Elder and Human Services
ATTACH;FMTTYPE=image/jpeg:https://www.readingrecap.com/wp-content/uploads/2023/01/Pleasant-Public-Forum.jpeg
END:VEVENT
BEGIN:VEVENT
DTSTART;TZID=America/New_York:20230131T190000
DTEND;TZID=America/New_York:20230131T213000
DTSTAMP:20260420T221647
CREATED:20230109T195150Z
LAST-MODIFIED:20230131T043903Z
UID:10000197-1675191600-1675200600@www.readingrecap.com
SUMMARY:Reading Community Singers ~ First Rehearsal
DESCRIPTION:Mark your calendar! The Reading Community Singers are pleased to announce that our Spring Season will begin with our First Rehearsal on Tuesday\, January 31. RCS is one of the longest running non-audition groups in the United States. Registration is now open on the RCS website: https://readingcommunitysingers.org/concerts/membership-dues/ \nOr\, you can try RCS out in person\, first ~ Sign-In on January 31 will start at 6:45 PM\, with Rehearsal to follow at 7:30. In-person Registration is open for the first three rehearsals. \nRehearsals are every Tuesday from 7:30 to 9:30 PM at Old South United Methodist Church\, 6 Salem St.\, Reading MA. \nAll Newcomers are always Welcome! While RCS does NOT require Auditions\, our Members must love to sing\, be able to match pitch and carry a tune\, and be committed to attending rehearsals. We’re open to all ages – from High School age to Senior Citizens. \nOur Spring Concert\, “A Jubilant Song”\, will be presented on Saturday\, May 13 at 7:30 PM at Reading Memorial High School. With Elijah Botkin ~ Interim Artistic Director and Joe Beninati ~ Accompanist. Included in the music planned are Make a Joyful Noise\, Finding Neverland Medley and Let It Shine. \nFor more information\, contact RCS at info@readingcommunitysingers.org or go to the RCS website https://readingcommunitysingers.org
URL:https://www.readingrecap.com/event/reading-community-singers-first-rehearsal/2023-01-31/
LOCATION:Old South Methodist Church\, 6 Salem Street\, Reading\, 01867
CATEGORIES:Music
ATTACH;FMTTYPE=image/png:https://www.readingrecap.com/wp-content/uploads/2023/01/RCS-Logo.png
ORGANIZER;CN="Reading Community Singers":MAILTO:Info@readingcommunitysingers.org
END:VEVENT
END:VCALENDAR