BEGIN:VCALENDAR
VERSION:2.0
PRODID:-//Recapping Everything in Reading, MA - ECPv6.15.20//NONSGML v1.0//EN
CALSCALE:GREGORIAN
METHOD:PUBLISH
X-ORIGINAL-URL:https://www.readingrecap.com
X-WR-CALDESC:Events for Recapping Everything in Reading, MA
REFRESH-INTERVAL;VALUE=DURATION:PT1H
X-Robots-Tag:noindex
X-PUBLISHED-TTL:PT1H
BEGIN:VTIMEZONE
TZID:America/New_York
BEGIN:DAYLIGHT
TZOFFSETFROM:-0500
TZOFFSETTO:-0400
TZNAME:EDT
DTSTART:20210314T070000
END:DAYLIGHT
BEGIN:STANDARD
TZOFFSETFROM:-0400
TZOFFSETTO:-0500
TZNAME:EST
DTSTART:20211107T060000
END:STANDARD
BEGIN:DAYLIGHT
TZOFFSETFROM:-0500
TZOFFSETTO:-0400
TZNAME:EDT
DTSTART:20220313T070000
END:DAYLIGHT
BEGIN:STANDARD
TZOFFSETFROM:-0400
TZOFFSETTO:-0500
TZNAME:EST
DTSTART:20221106T060000
END:STANDARD
BEGIN:DAYLIGHT
TZOFFSETFROM:-0500
TZOFFSETTO:-0400
TZNAME:EDT
DTSTART:20230312T070000
END:DAYLIGHT
BEGIN:STANDARD
TZOFFSETFROM:-0400
TZOFFSETTO:-0500
TZNAME:EST
DTSTART:20231105T060000
END:STANDARD
BEGIN:DAYLIGHT
TZOFFSETFROM:-0500
TZOFFSETTO:-0400
TZNAME:EDT
DTSTART:20240310T070000
END:DAYLIGHT
BEGIN:STANDARD
TZOFFSETFROM:-0400
TZOFFSETTO:-0500
TZNAME:EST
DTSTART:20241103T060000
END:STANDARD
END:VTIMEZONE
BEGIN:VEVENT
DTSTART;TZID=America/New_York:20221201T080000
DTEND;TZID=America/New_York:20221221T190000
DTSTAMP:20260423T135237
CREATED:20221219T045701Z
LAST-MODIFIED:20221219T045815Z
UID:10000172-1669881600-1671649200@www.readingrecap.com
SUMMARY:Winter Coats and New Socks Drive
DESCRIPTION:Donation deadline is 7:00PM on December 21st. \nCoats and socks can be dropped off at Expressions Hair Studio\, 565 Main Street in Reading or the Burbank YMCA.
URL:https://www.readingrecap.com/event/winter-coats-and-new-socks-drive/
LOCATION:Expressions Hair Studio\, 565 Main Street\, Reading\, MA\, 01867\, United States
CATEGORIES:Donation
ATTACH;FMTTYPE=image/webp:https://www.readingrecap.com/wp-content/uploads/2022/12/coat-drive-salon-reading.webp
ORGANIZER;CN="Expressions Hair Studio":MAILTO:expressionshairstudio21@gmail.com
END:VEVENT
BEGIN:VEVENT
DTSTART;TZID=America/New_York:20221201T080000
DTEND;TZID=America/New_York:20230106T170000
DTSTAMP:20260423T135237
CREATED:20221213T210711Z
LAST-MODIFIED:20221213T210742Z
UID:10000171-1669881600-1673024400@www.readingrecap.com
SUMMARY:Stuff-A-Cruiser
DESCRIPTION:Rocket Leaders in Action are organizing a “Stuff-A-Cruiser” toy drive to collect new and gently used stuffed animals.\n\n\n\nFrom December 1st-January 6th\, there will be a box outside of SRO Lewis’s office at RMHS as well as in the lobby of the Reading Police Department.\n\n\n\nThe stuffed animals are being collected to be put into all police cruisers for officers to have on hand in the event they are responding to a call where children are present.\n\n\n\nIf you have any questions\, please reach out to Krystal Mellonakos\, Outreach Coordinator for the Reading Coalition for Prevention & Support at kmellonakos@ci.reading.ma.us
URL:https://www.readingrecap.com/event/stuff-a-cruiser/
LOCATION:Reading Police Station\, 15 Union Street\, Reading\, MA\, 01867\, United States
CATEGORIES:Donation,Police & Fire
ATTACH;FMTTYPE=image/webp:https://www.readingrecap.com/wp-content/uploads/2022/12/Stuff-a-Cruiser.webp
ORGANIZER;CN="Reading Police Department":MAILTO:koshaughnessy@ci.reading.ma.us
END:VEVENT
BEGIN:VEVENT
DTSTART;TZID=America/New_York:20221202T193000
DTEND;TZID=America/New_York:20221211T140000
DTSTAMP:20260423T135237
CREATED:20221127T151746Z
LAST-MODIFIED:20221127T151826Z
UID:10000151-1670009400-1670767200@www.readingrecap.com
SUMMARY:Scrooge! presented by RMHS Drama
DESCRIPTION:Scrooge! is the treasured Broadway musical adaptation of Charles Dickens’ 1843 festive novella A Christmas Carol. It tells the classic tale of Ebenezer Scrooge; a prosperous businessman\, who holds little room in his heart for joy or goodwill -”Bah! Humbug!” This season\, join Scrooge as he is forced to come face to face with his selfish ways when confronted by three ghosts. In the course of one night\, Scrooge is forced to examine his faults and possibly make amends\, before it’s too late. A Christmas Carol is beloved by audiences around the world\, and has become a tradition for many. This year the RMHS Drama Club brings a Dickensian world to life at the RMHS Performing Arts Center\, featuring an elementary children’s choir and special community guests to help us tell the story. Running Dec 2nd\, 3rd\, 9th\, & 10th at 7:30pm and Dec 4th and 11th at 2:00pm there are plenty of chances to join in the magic.\n\n\nDetails and tickets on rmhsdrama.org\nFriday\, December 2 at 7:30 pm\nSaturday\, December 3 at 7:30 pm\nSunday\, December 4 at 2:00 pm\nFriday\, December 9 at 7:30 pm\nSaturday December 10 at 7:30 pm\nSunday\, December 11 at 2:00 pm\n\n\nTickets are $20 for adults and $15 for senior citizens and students.
URL:https://www.readingrecap.com/event/scrooge-presented-by-rmhs-drama/
LOCATION:Reading Memorial High School\, 62 Oakland Rd\, Reading\, MA\, 01867\, United States
CATEGORIES:Arts
ATTACH;FMTTYPE=image/jpeg:https://www.readingrecap.com/wp-content/uploads/2022/11/Scrooge-RMHS-Drama-Club.jpg
ORGANIZER;CN="RMHS Drama Club":MAILTO:psstofficers@gmail.com
END:VEVENT
BEGIN:VEVENT
DTSTART;TZID=America/New_York:20221202T193000
DTEND;TZID=America/New_York:20221211T140000
DTSTAMP:20260423T135237
CREATED:20221129T013621Z
LAST-MODIFIED:20221129T013621Z
UID:10000152-1670009400-1670767200@www.readingrecap.com
SUMMARY:Miracle on 34th Street: A Live Radio Play
DESCRIPTION:December 2–11\, 2022\nBased on the Movie Miracle on 34th Street\nWritten by George Seaton\nStory by Valentine Davies\nDirected by Bob Beckman and Fred Gallagher\nProduced by Maryellen Kenney\nCast:\nJosh Hyatt\nAnn Marie King\nKen McElroy\nDavid Murgo\nEllie Orsburn\nTom Ostrowski\nKevin Pierson\nLaura Raynor \nPERFORMANCES:\nFriday\, December 2\, 2022 @ 7:30 PM\nSaturday\, December 3\, 2022 @ 7:30 PM\nSaturday\, December 10\, 2022 @ 7:30 PM\nSunday\, December 11\, 2021 @ 2 PM \nLOCATION:\nThe Old Hose House\, 1249 Main Street\, Reading\, MA \nTICKET PRICES: \n$22/Adults\n$20/Seniors & Students\nAll Tickets General Admission \nCOVID POLICY: \nMasks are encouraged but not required for audience members at this time. Policy subject to change.
URL:https://www.readingrecap.com/event/miracle-on-34th-street-a-live-radio-play/
LOCATION:The Old Hose House\, 1249 Main Street\, Reading\, MA\, 01867\, United States
CATEGORIES:Arts
ATTACH;FMTTYPE=image/jpeg:https://www.readingrecap.com/wp-content/uploads/2022/11/Miracle-on-34th-Street.jpg
ORGANIZER;CN="Colonial Chorus Players":MAILTO:colonialchorusplayers@gmail.com
END:VEVENT
BEGIN:VEVENT
DTSTART;TZID=America/New_York:20221203T100000
DTEND;TZID=America/New_York:20221203T200000
DTSTAMP:20260423T135237
CREATED:20221129T014657Z
LAST-MODIFIED:20221129T014657Z
UID:10000153-1670061600-1670097600@www.readingrecap.com
SUMMARY:Festival of Trees 2022
DESCRIPTION:Festival of Trees 2022\nAdvanced Ticket Sales are now OPEN! \nVisit this link to pre purchase your admission and raffle tickets.  Why write out the tickets when we can do it for you!  2022 Festival of Trees Preorder Form (ejoinme.org) \nConsider Volunteering!! email: readingfot@gmail.com\n\nSaturday December 3rd (10am-8pm)  &  Sunday December 4th (10am-4pm)\nAt Parker Middle School – 45 Temple Street\, Reading MA 01867 \nThis Year the Festival of Trees will be held on December 3rd & 4th \nOur annual holiday fundraiser is a great family event! Visitors will be delighted and inspired by a winter wonderland of decorated holiday trees that are raffled off to lucky winners! Saturday evening activities consist of a special reading of Polar Express and a pajama party for kids among a forest of fun. \nDecorated trees are donated by local families\, businesses\, organizations\, and schools. With a wide variety of sizes\, shapes\, and themes to choose from\, there is something for everyone. \nDonors have decorated a tree as a family project\, in memory of a loved one\, to promote a cause\, or to advertise their business. Decorated trees must be artificial and tree size can range from table top to 11 feet high. \nVisit our blog to see winning trees in the past trees for inspiration!
URL:https://www.readingrecap.com/event/festival-of-trees-2022/2022-12-03/
LOCATION:Walter S. Parker Middle School\, 45 Temple Street\, Reading\, MA\, 01867\, United States
CATEGORIES:Fundraiser,Holiday
ATTACH;FMTTYPE=image/jpeg:https://www.readingrecap.com/wp-content/uploads/2022/11/Festival-of-Trees.jpg
ORGANIZER;CN="Reading Education Foundation":MAILTO:info@ReadingEF.org
END:VEVENT
BEGIN:VEVENT
DTSTART;TZID=America/New_York:20221203T140000
DTEND;TZID=America/New_York:20221203T170000
DTSTAMP:20260423T135237
CREATED:20221022T034122Z
LAST-MODIFIED:20221025T143426Z
UID:10000133-1670076000-1670086800@www.readingrecap.com
SUMMARY:Santa at GoodHearts Childrens Shop
DESCRIPTION:Save the Date— Santa is coming to GoodHearts Childrens Shop December 3rd. Skip the hassle of the mall and visit him downtown. \nEach time slot will include a visit and photo with Santa that you will be able to download and use for prints or holiday cards.  \nSign up will be released soon!
URL:https://www.readingrecap.com/event/santa-at-goodhearts-childrens-shop/
LOCATION:GoodHearts Childrens Shop\, 642 Main Street\, Reading\, MA\, 01867-1515\, United States
CATEGORIES:Miscellaneous
ATTACH;FMTTYPE=image/webp:https://www.readingrecap.com/wp-content/uploads/2022/10/Goodhearts-Santa.webp
ORGANIZER;CN="GoodHearts Childrens Shop":MAILTO:info@goodheartsshop.com
END:VEVENT
END:VCALENDAR