BEGIN:VCALENDAR
VERSION:2.0
PRODID:-//Recapping Everything in Reading, MA - ECPv6.15.20//NONSGML v1.0//EN
CALSCALE:GREGORIAN
METHOD:PUBLISH
X-ORIGINAL-URL:https://www.readingrecap.com
X-WR-CALDESC:Events for Recapping Everything in Reading, MA
REFRESH-INTERVAL;VALUE=DURATION:PT1H
X-Robots-Tag:noindex
X-PUBLISHED-TTL:PT1H
BEGIN:VTIMEZONE
TZID:America/New_York
BEGIN:DAYLIGHT
TZOFFSETFROM:-0500
TZOFFSETTO:-0400
TZNAME:EDT
DTSTART:20210314T070000
END:DAYLIGHT
BEGIN:STANDARD
TZOFFSETFROM:-0400
TZOFFSETTO:-0500
TZNAME:EST
DTSTART:20211107T060000
END:STANDARD
BEGIN:DAYLIGHT
TZOFFSETFROM:-0500
TZOFFSETTO:-0400
TZNAME:EDT
DTSTART:20220313T070000
END:DAYLIGHT
BEGIN:STANDARD
TZOFFSETFROM:-0400
TZOFFSETTO:-0500
TZNAME:EST
DTSTART:20221106T060000
END:STANDARD
BEGIN:DAYLIGHT
TZOFFSETFROM:-0500
TZOFFSETTO:-0400
TZNAME:EDT
DTSTART:20230312T070000
END:DAYLIGHT
BEGIN:STANDARD
TZOFFSETFROM:-0400
TZOFFSETTO:-0500
TZNAME:EST
DTSTART:20231105T060000
END:STANDARD
END:VTIMEZONE
BEGIN:VEVENT
DTSTART;TZID=America/New_York:20220913T183000
DTEND;TZID=America/New_York:20221108T203000
DTSTAMP:20260423T162107
CREATED:20220819T000027Z
LAST-MODIFIED:20220819T000027Z
UID:10000056-1663093800-1667939400@www.readingrecap.com
SUMMARY:Citizens Police Academy 2022
DESCRIPTION:Chief David Clark is pleased to announce that the Reading Police Department will offer a Citizens Police Academy (CPA) for community members.\n\nThe CPA will begin on Tuesday\, Sept. 13\, and will run through Tuesday\, Nov. 8. Classes will be held at the Reading Police Department and the Pleasant Street Center on Tuesdays from 6:30 p.m. to 8:30 p.m.\n\nThrough the CPA\, participants will get a tour of the station\, see the inside and outside of police cruisers\, and learn about investigations\, firearms\, dispatch procedures\, and crime prevention tactics via classroom teaching and demonstrations. Participants will also get to meet the Reading Police Department’s comfort dogs Cooper and Rusty. \n \n“tWe’re excited to invite community members to come and get a close-up view of the work that we do to protect the community\, while also having an opportunity to meet and get to know Reading officers who work in the community”.\n\n-Deputy Chief Christine Amendola\nAfter graduating the program\, participants will get to schedule a ride along with a Reading police officer. Participants must attend at least six out of nine classes in order to schedule a ride along.\n\n \n“We are thrilled to once again offer this amazing program\, and I encourage all residents to participate. Our staff thoroughly enjoys the opportunity to teach classes and interact with the public we serve.”\n\n-Chief David Clark\n \n\nTo register for the academy\, download an application found here: https://www.readingma.gov/181/Citizens-Police-Academy. Applications should be returned in-person or via email to Community Service Officer Kristen O’Shaughnessy\, who can be reached via email at: koshaughnessy@ci.reading.ma.us\n\nParticipants must be 16 years old with parental consent or 18 years old to register. Limited space is available. Reading residents will receive priority over non residents.\n\nThose looking for more information are asked to contact Community Service Officer Kristen O’Shaughnessy at (781) 942-6761.
URL:https://www.readingrecap.com/event/citizens-police-academy-2022/
LOCATION:Reading Police Station\, 15 Union Street\, Reading\, MA\, 01867\, United States
CATEGORIES:Police & Fire
ATTACH;FMTTYPE=image/jpeg:https://www.readingrecap.com/wp-content/uploads/2022/08/Reading-Police-Academy.jpg
ORGANIZER;CN="Reading Police Department":MAILTO:koshaughnessy@ci.reading.ma.us
END:VEVENT
BEGIN:VEVENT
DTSTART;VALUE=DATE:20221026
DTEND;VALUE=DATE:20221108
DTSTAMP:20260423T162107
CREATED:20221027T045422Z
LAST-MODIFIED:20221027T045942Z
UID:10000138-1666742400-1667865599@www.readingrecap.com
SUMMARY:Lions Wreath Sale to Benefit the Reading Food Pantry
DESCRIPTION:Deck your halls and help the Reading Food Pantry! Every year\, Lions sell a range of beautiful greenery from McCue Garden Center\, with proceeds going to support the important work of the Reading Food Pantry. Wreaths are available in a range of sizes\, and there are two Kissing Ball options\, both decorated. Wreaths will be cheerfully delivered to your home the Saturday after Thanksgiving\, November 26th. Email your order to readinglions01867@gmail.com by Monday\, November 7th.
URL:https://www.readingrecap.com/event/lions-wreath-sale-to-benefit-the-reading-food-pantry/
LOCATION:Online
CATEGORIES:Donation,Fundraiser
ATTACH;FMTTYPE=image/jpeg:https://www.readingrecap.com/wp-content/uploads/2022/10/Deck-your-halls-help-the-Reading-Food-Bank.jpg
ORGANIZER;CN="Reading Lions Club":MAILTO:info@readinglionsclub.org
END:VEVENT
BEGIN:VEVENT
DTSTART;TZID=America/New_York:20221105T080000
DTEND;TZID=America/New_York:20221105T090000
DTSTAMP:20260423T162107
CREATED:20221004T191634Z
LAST-MODIFIED:20221004T191634Z
UID:10000117-1667635200-1667638800@www.readingrecap.com
SUMMARY:Killam Elementary School Tours
DESCRIPTION:Attention Town Meeting Members: Please consider joining one of these scheduled tours of Killam Elementary School to learn more about the building.  \n– Wednesday 10/26 @ 6pm\n– Friday 11/4 @ 1pm\n– Saturday 11/5 @ 8am \nMore info: https://www.readingma.gov/749/Killam-School-Building-Committee
URL:https://www.readingrecap.com/event/killam-elementary-school-tours/2022-11-05/
LOCATION:Killam Elementary School\, 333 Charles St\, Reading\, MA\, 01867\, United States
CATEGORIES:Town Government
ATTACH;FMTTYPE=image/webp:https://www.readingrecap.com/wp-content/uploads/2022/10/Killam-Tours.webp
END:VEVENT
BEGIN:VEVENT
DTSTART;TZID=America/New_York:20221105T090000
DTEND;TZID=America/New_York:20221105T140000
DTSTAMP:20260423T162107
CREATED:20221027T052654Z
LAST-MODIFIED:20221027T053837Z
UID:10000142-1667638800-1667656800@www.readingrecap.com
SUMMARY:Electronics Recycling Event
DESCRIPTION:The First Congregational Church of Reading  is hosting an electronics recycling event from 9 a.m. to 2 p.m. on Saturday November 5. \nThe event will be held in the Town Hall parking lot at 25 Woburn Street in Reading. Residents from all towns are welcome to recycle. The event will be rain or shine. All electronics\, appliances\, items with a plug and/or batteries\, as well as bicycles in any condition will be accepted and recycled for a small cost as follows: \nCost to You: \n\n\n$5 each for Computers\, Laptops\, Video Game Consoles\, DVD Players\, VCR’s\, Small Printers\, Radios\, Speakers\, Table Lamps\, Fans\, Hair Dryers\, Curling Irons\, Projectors\, Drills\, Digital Cameras\, Clocks\, Trophies\, Frying Pans and Cookware\, Holiday Lights\, Other Small Electronics. \n\n\n$10 each for Small Microwaves\, Vacuum Cleaners/Roomba\, Toaster Ovens\, Ceiling Fans\, Floor Lamps\, Air Fryers\, Electric Grills\, Hot Plates\, Small Radiators\, Propane Tanks (Empty)\, Keyboard Pianos\, Coffee Makers\, Ice Makers\, Small Household Appliances \n\n\n$15 each for Flat Screen Computer Monitors\, Range-Top/Large Microwaves \n\n\n$20 each for CRT Computer Monitors\, TVs up to 24\,” Dorm Sized Refrigerators\, Dehumidifiers\, Air Conditioners\, Water Coolers\, Large Printers/Copiers\, Heat Lamps\, Heaters \n\n\n$25 each for TVs between 25” and 31\,” Washing Machines\, Dryers\, Stoves\, Dishwashers\, Large Appliances\, Outdoor Grills\, Treadmills\, Exercise Equipment\, Snow Blowers\, Lawn Mowers\, Rototillers\, Power Washers\, Large Yard Equipment\, Water Tanks \n\n\n$30 each for TVs between 32” and 35\,” Large Refrigerators\, Ride-On Lawn Mowers \n\n\n$35 each for TVs over 36” \n\n\n$40 each for Projection TVs \n\n\nNO CHARGE (Cash Donation Recommended): Cell Phones\, Bicycles in any condition\, Wires\, Cables\, Chargers\, Car Batteries\, Household Batteries Keyboards\, Tablets. \n\n\nThe event will be held rain or shine. Computer hard drives will be destroyed during the recycling process\, but can be removed on-site at the event for an additional charge. Cash payment is preferred\, but checks will be an acceptable form of payments over $30. \nFor more information or if you have additional questions\, email GreenDayRecyclingMA@Gmail.com
URL:https://www.readingrecap.com/event/electronics-recycling-event/
LOCATION:First Congregational Church\, 25 Woburn Street\, Reading MA\, 01867
CATEGORIES:Miscellaneous
ATTACH;FMTTYPE=image/webp:https://www.readingrecap.com/wp-content/uploads/2022/10/Reading-Recycling-Event.webp
END:VEVENT
END:VCALENDAR