BEGIN:VCALENDAR
VERSION:2.0
PRODID:-//Recapping Everything in Reading, MA - ECPv6.15.20//NONSGML v1.0//EN
CALSCALE:GREGORIAN
METHOD:PUBLISH
X-WR-CALNAME:Recapping Everything in Reading, MA
X-ORIGINAL-URL:https://www.readingrecap.com
X-WR-CALDESC:Events for Recapping Everything in Reading, MA
REFRESH-INTERVAL;VALUE=DURATION:PT1H
X-Robots-Tag:noindex
X-PUBLISHED-TTL:PT1H
BEGIN:VTIMEZONE
TZID:America/New_York
BEGIN:DAYLIGHT
TZOFFSETFROM:-0500
TZOFFSETTO:-0400
TZNAME:EDT
DTSTART:20210314T070000
END:DAYLIGHT
BEGIN:STANDARD
TZOFFSETFROM:-0400
TZOFFSETTO:-0500
TZNAME:EST
DTSTART:20211107T060000
END:STANDARD
BEGIN:DAYLIGHT
TZOFFSETFROM:-0500
TZOFFSETTO:-0400
TZNAME:EDT
DTSTART:20220313T070000
END:DAYLIGHT
BEGIN:STANDARD
TZOFFSETFROM:-0400
TZOFFSETTO:-0500
TZNAME:EST
DTSTART:20221106T060000
END:STANDARD
BEGIN:DAYLIGHT
TZOFFSETFROM:-0500
TZOFFSETTO:-0400
TZNAME:EDT
DTSTART:20230312T070000
END:DAYLIGHT
BEGIN:STANDARD
TZOFFSETFROM:-0400
TZOFFSETTO:-0500
TZNAME:EST
DTSTART:20231105T060000
END:STANDARD
END:VTIMEZONE
BEGIN:VEVENT
DTSTART;TZID=America/New_York:20220913T183000
DTEND;TZID=America/New_York:20221108T203000
DTSTAMP:20260423T191707
CREATED:20220819T000027Z
LAST-MODIFIED:20220819T000027Z
UID:10000056-1663093800-1667939400@www.readingrecap.com
SUMMARY:Citizens Police Academy 2022
DESCRIPTION:Chief David Clark is pleased to announce that the Reading Police Department will offer a Citizens Police Academy (CPA) for community members.\n\nThe CPA will begin on Tuesday\, Sept. 13\, and will run through Tuesday\, Nov. 8. Classes will be held at the Reading Police Department and the Pleasant Street Center on Tuesdays from 6:30 p.m. to 8:30 p.m.\n\nThrough the CPA\, participants will get a tour of the station\, see the inside and outside of police cruisers\, and learn about investigations\, firearms\, dispatch procedures\, and crime prevention tactics via classroom teaching and demonstrations. Participants will also get to meet the Reading Police Department’s comfort dogs Cooper and Rusty. \n \n“tWe’re excited to invite community members to come and get a close-up view of the work that we do to protect the community\, while also having an opportunity to meet and get to know Reading officers who work in the community”.\n\n-Deputy Chief Christine Amendola\nAfter graduating the program\, participants will get to schedule a ride along with a Reading police officer. Participants must attend at least six out of nine classes in order to schedule a ride along.\n\n \n“We are thrilled to once again offer this amazing program\, and I encourage all residents to participate. Our staff thoroughly enjoys the opportunity to teach classes and interact with the public we serve.”\n\n-Chief David Clark\n \n\nTo register for the academy\, download an application found here: https://www.readingma.gov/181/Citizens-Police-Academy. Applications should be returned in-person or via email to Community Service Officer Kristen O’Shaughnessy\, who can be reached via email at: koshaughnessy@ci.reading.ma.us\n\nParticipants must be 16 years old with parental consent or 18 years old to register. Limited space is available. Reading residents will receive priority over non residents.\n\nThose looking for more information are asked to contact Community Service Officer Kristen O’Shaughnessy at (781) 942-6761.
URL:https://www.readingrecap.com/event/citizens-police-academy-2022/
LOCATION:Reading Police Station\, 15 Union Street\, Reading\, MA\, 01867\, United States
CATEGORIES:Police & Fire
ATTACH;FMTTYPE=image/jpeg:https://www.readingrecap.com/wp-content/uploads/2022/08/Reading-Police-Academy.jpg
ORGANIZER;CN="Reading Police Department":MAILTO:koshaughnessy@ci.reading.ma.us
END:VEVENT
BEGIN:VEVENT
DTSTART;VALUE=DATE:20221018
DTEND;VALUE=DATE:20221019
DTSTAMP:20260423T191707
CREATED:20220927T034949Z
LAST-MODIFIED:20220927T034949Z
UID:10000105-1666051200-1666137599@www.readingrecap.com
SUMMARY:Nashoba Ski & Snowboard Program Gr. 3-8
DESCRIPTION:Reading Recreation is pleased to offer the Nashoba Valley Ski and Snowboard Program in 2023! This program will run for five consecutive weeks starting the first week in January. If the program is forced to run into late March\, cancelled sessions cannot be made up and refunds/credits will not be granted by either the Reading Recreation Division or Nashoba Valley Ski Area. \nParents\, please understand that the nature of this program requires participants to behave independently without constant adult supervision. There will be a 15:1 children to chaperone ratio. Nashoba Valley staff is not included in this ratio. If you are interested in volunteering as a monitor\, please contact Arielle Carney at (781) 942-9075 or email acarney@ci.reading.ma.us \nRegistration will open on Tuesday\, October 18th at 8:00AM and will be accepted on a first-come\, first-serve basis. Transportation will take place at the lot across from Coolidge Middle School. Children must arrive no later than 3:15pm and parents must be at the pick-up no later than 6:45pm. The program begins Tuesday\, January 3\, 2023. \nProgram Fees: Lift/Lesson/Transportation – $533\nLift/Transportation – $380 \nRenting Equipment: A separate rental night will be held on Wednesday\, November 30th at the Parker Middle School Cafeteria from 6:00PM-7:00PM. Ski Rental Corp. will fit renters for their ski/snowboard equipment. Please contact Nashoba Valley directly for rental rates. These fees must be paid on the rental night as payment is made directly to Ski Rental Corp. \nREFUND POLICY ~ PLEASE READ!!! ~\nOn or before December 15th:\nRefund minus $10 in the form of a check or a full credit to your Reading Recreation account to use for future Reading Recreation programs.\nAfter December 15th:\nNo refund checks or Reading Recreation account credits will be given for cancellations unless a doctor’s note is provided
URL:https://www.readingrecap.com/event/nashoba-ski-snowboard-program-gr-3-8/
LOCATION:Nashoba Valley Ski Area\, 79 Powers Road\, Westford\, MA\, 01886\, United States
CATEGORIES:Recreation Division
ATTACH;FMTTYPE=image/webp:https://www.readingrecap.com/wp-content/uploads/2022/09/Nashoba-Ski-and-Snowboard.webp
ORGANIZER;CN="Reading Recreation Division":MAILTO:recreation@ci.reading.ma.us
END:VEVENT
BEGIN:VEVENT
DTSTART;TZID=America/New_York:20221018T173000
DTEND;TZID=America/New_York:20221018T193000
DTSTAMP:20260423T191707
CREATED:20221004T182228Z
LAST-MODIFIED:20221004T192036Z
UID:10000114-1666114200-1666121400@www.readingrecap.com
SUMMARY:New Resident Open House at the Reading Public Library
DESCRIPTION:Are you new to Reading? Then you are invited to Reading’s New Resident Open House! Come to the library on October 18 to meet representatives from town government\, schools\, youth groups\, community\, and religious organizations\, learn about services\, programs\, and events in Reading\, and enjoy refreshments while you mingle with other new residents \nThe first 50 new residents to register will receive a welcome bag filled with information and swag from local businesses one welcome bag per family. Register today: https://bit.ly/RPLNewResident
URL:https://www.readingrecap.com/event/new-resident-open-house-at-the-reading-public-library/
LOCATION:Reading Public Library\, 64 Middlesex Ave\, Reading\, MA\, 01867\, United States
CATEGORIES:Reading Public Library
ATTACH;FMTTYPE=image/png:https://www.readingrecap.com/wp-content/uploads/2022/10/New-Residents-Open-House.png
END:VEVENT
END:VCALENDAR