BEGIN:VCALENDAR
VERSION:2.0
PRODID:-//Recapping Everything in Reading, MA - ECPv6.15.20//NONSGML v1.0//EN
CALSCALE:GREGORIAN
METHOD:PUBLISH
X-WR-CALNAME:Recapping Everything in Reading, MA
X-ORIGINAL-URL:https://www.readingrecap.com
X-WR-CALDESC:Events for Recapping Everything in Reading, MA
REFRESH-INTERVAL;VALUE=DURATION:PT1H
X-Robots-Tag:noindex
X-PUBLISHED-TTL:PT1H
BEGIN:VTIMEZONE
TZID:America/New_York
BEGIN:DAYLIGHT
TZOFFSETFROM:-0500
TZOFFSETTO:-0400
TZNAME:EDT
DTSTART:20210314T070000
END:DAYLIGHT
BEGIN:STANDARD
TZOFFSETFROM:-0400
TZOFFSETTO:-0500
TZNAME:EST
DTSTART:20211107T060000
END:STANDARD
BEGIN:DAYLIGHT
TZOFFSETFROM:-0500
TZOFFSETTO:-0400
TZNAME:EDT
DTSTART:20220313T070000
END:DAYLIGHT
BEGIN:STANDARD
TZOFFSETFROM:-0400
TZOFFSETTO:-0500
TZNAME:EST
DTSTART:20221106T060000
END:STANDARD
BEGIN:DAYLIGHT
TZOFFSETFROM:-0500
TZOFFSETTO:-0400
TZNAME:EDT
DTSTART:20230312T070000
END:DAYLIGHT
BEGIN:STANDARD
TZOFFSETFROM:-0400
TZOFFSETTO:-0500
TZNAME:EST
DTSTART:20231105T060000
END:STANDARD
END:VTIMEZONE
BEGIN:VEVENT
DTSTART;TZID=America/New_York:20220913T183000
DTEND;TZID=America/New_York:20221108T203000
DTSTAMP:20260424T125957
CREATED:20220819T000027Z
LAST-MODIFIED:20220819T000027Z
UID:10000056-1663093800-1667939400@www.readingrecap.com
SUMMARY:Citizens Police Academy 2022
DESCRIPTION:Chief David Clark is pleased to announce that the Reading Police Department will offer a Citizens Police Academy (CPA) for community members.\n\nThe CPA will begin on Tuesday\, Sept. 13\, and will run through Tuesday\, Nov. 8. Classes will be held at the Reading Police Department and the Pleasant Street Center on Tuesdays from 6:30 p.m. to 8:30 p.m.\n\nThrough the CPA\, participants will get a tour of the station\, see the inside and outside of police cruisers\, and learn about investigations\, firearms\, dispatch procedures\, and crime prevention tactics via classroom teaching and demonstrations. Participants will also get to meet the Reading Police Department’s comfort dogs Cooper and Rusty. \n \n“tWe’re excited to invite community members to come and get a close-up view of the work that we do to protect the community\, while also having an opportunity to meet and get to know Reading officers who work in the community”.\n\n-Deputy Chief Christine Amendola\nAfter graduating the program\, participants will get to schedule a ride along with a Reading police officer. Participants must attend at least six out of nine classes in order to schedule a ride along.\n\n \n“We are thrilled to once again offer this amazing program\, and I encourage all residents to participate. Our staff thoroughly enjoys the opportunity to teach classes and interact with the public we serve.”\n\n-Chief David Clark\n \n\nTo register for the academy\, download an application found here: https://www.readingma.gov/181/Citizens-Police-Academy. Applications should be returned in-person or via email to Community Service Officer Kristen O’Shaughnessy\, who can be reached via email at: koshaughnessy@ci.reading.ma.us\n\nParticipants must be 16 years old with parental consent or 18 years old to register. Limited space is available. Reading residents will receive priority over non residents.\n\nThose looking for more information are asked to contact Community Service Officer Kristen O’Shaughnessy at (781) 942-6761.
URL:https://www.readingrecap.com/event/citizens-police-academy-2022/
LOCATION:Reading Police Station\, 15 Union Street\, Reading\, MA\, 01867\, United States
CATEGORIES:Police & Fire
ATTACH;FMTTYPE=image/jpeg:https://www.readingrecap.com/wp-content/uploads/2022/08/Reading-Police-Academy.jpg
ORGANIZER;CN="Reading Police Department":MAILTO:koshaughnessy@ci.reading.ma.us
END:VEVENT
BEGIN:VEVENT
DTSTART;TZID=America/New_York:20221015T080000
DTEND;TZID=America/New_York:20221015T170000
DTSTAMP:20260424T125957
CREATED:20221011T202115Z
LAST-MODIFIED:20221011T202115Z
UID:10000124-1665820800-1665853200@www.readingrecap.com
SUMMARY:Fall Food Drive
DESCRIPTION:WHERE: 26 Oak Ridge Road and 63 Edgemont Avenue \nWHEN: FRIDAY\, OCTOBER 14th-SUNDAY\, OCTOBER 16th \nMOST NEEDED ITEMS: \n\nCANNED TUNA/MEATS\nPEANUT BUTTER\n RICE\nBLACK BEANS\nCANNED VEGGIES\nCANNED TOMATOES\nMAC & CHEESE\nSNACK PACKS (PRETZELS\, CHIPS\, ETC.)\n\nCHALLENGE: If they collect more than 150 items in each of the categories above\, two area companies will each give $250 more in donated food for a total of $500. Thank you!
URL:https://www.readingrecap.com/event/fall-food-drive/2022-10-15/
LOCATION:26 Oak Ridge Rd\, 26 Oak Ridge Rd\, Reading\, MA\, 01867\, United States
CATEGORIES:Donation
ATTACH;FMTTYPE=image/webp:https://www.readingrecap.com/wp-content/uploads/2022/10/Fall-Food-Drive.webp
END:VEVENT
BEGIN:VEVENT
DTSTART;TZID=America/New_York:20221015T100000
DTEND;TZID=America/New_York:20221015T140000
DTSTAMP:20260424T125957
CREATED:20220824T235003Z
LAST-MODIFIED:20220824T235003Z
UID:10000064-1665828000-1665842400@www.readingrecap.com
SUMMARY:Discover the Arts Day
DESCRIPTION:“Discover the Arts Day” – October 15\, 2022\, 10-2 PM\nEveryone is welcome to attend this fun and rewarding event on\nReading Town Common\, in October of every year! \nIt highlights all of the Arts Reading Members\, Businesses\, and\nAssociates on Reading Town Common with tables under canopies\nsharing their worthwhile artistic attributes with you.\nThere are various performers on stage to bring you some of the\nmost noted talents in the community and in the local area! \nRain Date Sunday Oct 16\, 1-5 PM \nPerformers:\n“Rhodium Plated RP”\n“5th Gear”\n“Stoneface Mountain”\n“Mary-Beth Maes” \nContact us If you would like to participate.\nReading Town Common 10 AM to 2 PM (Rain: Sunday 1 PM to 5 PM)
URL:https://www.readingrecap.com/event/discover-the-arts-day/
LOCATION:Town Common\, 680 Main Street\, Reading\, MA\, 01867\, United States
CATEGORIES:Arts
ATTACH;FMTTYPE=image/webp:https://www.readingrecap.com/wp-content/uploads/2022/08/Arts-Reading.webp
ORGANIZER;CN="Arts Reading":MAILTO:ArtsReadingMA@gmail.com
END:VEVENT
BEGIN:VEVENT
DTSTART;TZID=America/New_York:20221015T100000
DTEND;TZID=America/New_York:20221015T140000
DTSTAMP:20260424T125957
CREATED:20220927T041236Z
LAST-MODIFIED:20220927T041236Z
UID:10000106-1665828000-1665842400@www.readingrecap.com
SUMMARY:Reading Fire Department Open House
DESCRIPTION:Open House at the Fire Headquarters at 757 Main Street on Saturday\, Oct 15\, from 10AM – 2PM. ng Fire Demonstrations and Activities for all ages. Mark your calendars!
URL:https://www.readingrecap.com/event/reading-fire-department-open-house/
LOCATION:Reading Fire Department\, 757 Main Street\, Reading\, MA\, 01867\, United States
CATEGORIES:Police & Fire
ATTACH;FMTTYPE=image/webp:https://www.readingrecap.com/wp-content/uploads/2022/09/Reading-Fire-Department-Open-House-1.webp
END:VEVENT
END:VCALENDAR