BEGIN:VCALENDAR
VERSION:2.0
PRODID:-//Recapping Everything in Reading, MA - ECPv6.15.20//NONSGML v1.0//EN
CALSCALE:GREGORIAN
METHOD:PUBLISH
X-WR-CALNAME:Recapping Everything in Reading, MA
X-ORIGINAL-URL:https://www.readingrecap.com
X-WR-CALDESC:Events for Recapping Everything in Reading, MA
REFRESH-INTERVAL;VALUE=DURATION:PT1H
X-Robots-Tag:noindex
X-PUBLISHED-TTL:PT1H
BEGIN:VTIMEZONE
TZID:America/New_York
BEGIN:DAYLIGHT
TZOFFSETFROM:-0500
TZOFFSETTO:-0400
TZNAME:EDT
DTSTART:20210314T070000
END:DAYLIGHT
BEGIN:STANDARD
TZOFFSETFROM:-0400
TZOFFSETTO:-0500
TZNAME:EST
DTSTART:20211107T060000
END:STANDARD
BEGIN:DAYLIGHT
TZOFFSETFROM:-0500
TZOFFSETTO:-0400
TZNAME:EDT
DTSTART:20220313T070000
END:DAYLIGHT
BEGIN:STANDARD
TZOFFSETFROM:-0400
TZOFFSETTO:-0500
TZNAME:EST
DTSTART:20221106T060000
END:STANDARD
BEGIN:DAYLIGHT
TZOFFSETFROM:-0500
TZOFFSETTO:-0400
TZNAME:EDT
DTSTART:20230312T070000
END:DAYLIGHT
BEGIN:STANDARD
TZOFFSETFROM:-0400
TZOFFSETTO:-0500
TZNAME:EST
DTSTART:20231105T060000
END:STANDARD
END:VTIMEZONE
BEGIN:VEVENT
DTSTART;TZID=America/New_York:20220913T183000
DTEND;TZID=America/New_York:20221108T203000
DTSTAMP:20260423T161952
CREATED:20220819T000027Z
LAST-MODIFIED:20220819T000027Z
UID:10000056-1663093800-1667939400@www.readingrecap.com
SUMMARY:Citizens Police Academy 2022
DESCRIPTION:Chief David Clark is pleased to announce that the Reading Police Department will offer a Citizens Police Academy (CPA) for community members.\n\nThe CPA will begin on Tuesday\, Sept. 13\, and will run through Tuesday\, Nov. 8. Classes will be held at the Reading Police Department and the Pleasant Street Center on Tuesdays from 6:30 p.m. to 8:30 p.m.\n\nThrough the CPA\, participants will get a tour of the station\, see the inside and outside of police cruisers\, and learn about investigations\, firearms\, dispatch procedures\, and crime prevention tactics via classroom teaching and demonstrations. Participants will also get to meet the Reading Police Department’s comfort dogs Cooper and Rusty. \n \n“tWe’re excited to invite community members to come and get a close-up view of the work that we do to protect the community\, while also having an opportunity to meet and get to know Reading officers who work in the community”.\n\n-Deputy Chief Christine Amendola\nAfter graduating the program\, participants will get to schedule a ride along with a Reading police officer. Participants must attend at least six out of nine classes in order to schedule a ride along.\n\n \n“We are thrilled to once again offer this amazing program\, and I encourage all residents to participate. Our staff thoroughly enjoys the opportunity to teach classes and interact with the public we serve.”\n\n-Chief David Clark\n \n\nTo register for the academy\, download an application found here: https://www.readingma.gov/181/Citizens-Police-Academy. Applications should be returned in-person or via email to Community Service Officer Kristen O’Shaughnessy\, who can be reached via email at: koshaughnessy@ci.reading.ma.us\n\nParticipants must be 16 years old with parental consent or 18 years old to register. Limited space is available. Reading residents will receive priority over non residents.\n\nThose looking for more information are asked to contact Community Service Officer Kristen O’Shaughnessy at (781) 942-6761.
URL:https://www.readingrecap.com/event/citizens-police-academy-2022/
LOCATION:Reading Police Station\, 15 Union Street\, Reading\, MA\, 01867\, United States
CATEGORIES:Police & Fire
ATTACH;FMTTYPE=image/jpeg:https://www.readingrecap.com/wp-content/uploads/2022/08/Reading-Police-Academy.jpg
ORGANIZER;CN="Reading Police Department":MAILTO:koshaughnessy@ci.reading.ma.us
END:VEVENT
BEGIN:VEVENT
DTSTART;TZID=America/New_York:20220928T090000
DTEND;TZID=America/New_York:20220928T190000
DTSTAMP:20260423T161952
CREATED:20220831T155812Z
LAST-MODIFIED:20220831T155812Z
UID:10000071-1664355600-1664391600@www.readingrecap.com
SUMMARY:Reading Blood Drive
DESCRIPTION:Reading Community \nBlood Drives \nGood Samaritan Lodge \n110 Haven Street\, Reading \nThursday\, September 15\, 2022 \n1:30 p.m. to 7:00 p.m. \nWednesday\, September 28\, 2022 \n9:00 a.m. to 7:00 p.m. \nFor an appointment\, please visit redcrossblood.org and enter: Reading or call 1-800-RED CROSS (1-800-733-2767)
URL:https://www.readingrecap.com/event/reading-blood-drive-2/
LOCATION:Masonic Lodge\, 110 Haven Street\, Reading\, MA\, 01867\, United States
CATEGORIES:Donation
ATTACH;FMTTYPE=image/webp:https://www.readingrecap.com/wp-content/uploads/2022/08/Reading-Blood-Drive-September.webp
END:VEVENT
BEGIN:VEVENT
DTSTART;TZID=America/New_York:20220928T140000
DTEND;TZID=America/New_York:20220928T153000
DTSTAMP:20260423T161952
CREATED:20220908T144717Z
LAST-MODIFIED:20220908T144717Z
UID:10000081-1664373600-1664379000@www.readingrecap.com
SUMMARY:Sweet Treats with Senator Lewis
DESCRIPTION:Join Senator Jason Lewis for ice cream sundaes. \nSeptember 28th from 2-3:30PM at the Pleasant Street Center.
URL:https://www.readingrecap.com/event/sweet-treats-with-senator-lewis/
LOCATION:Pleasant Street Center\, 49 Pleasant Street\, Reading\, MA\, 01867\, United States
CATEGORIES:Elder and Human Services
ATTACH;FMTTYPE=image/webp:https://www.readingrecap.com/wp-content/uploads/2022/09/Senator-Lewis-Pleasant-Street-Center.webp
ORGANIZER;CN="Senator Jason Lewis":MAILTO:Jason.Lewis@masenate.gov
END:VEVENT
BEGIN:VEVENT
DTSTART;TZID=America/New_York:20220928T180000
DTEND;TZID=America/New_York:20220928T193000
DTSTAMP:20260423T161952
CREATED:20220905T025444Z
LAST-MODIFIED:20220905T025444Z
UID:10000077-1664388000-1664393400@www.readingrecap.com
SUMMARY:MVPHC Recovery & Remembrance Event
DESCRIPTION:Coalition Announces Regional Recovery & Remembrance Event \nA gathering of Mystic Valley Public Health Coalition communities in Reading\, MA \nJoin us for the 2022 Recovery & Remembrance Event at the Reading Town Common located at 16 Lowell Street on Wednesday September 28\, 2022 from 6:00 to 7:30 pm in Reading\, Massachusetts. The Mystic Valley Public Health Coalition invites all seven of our communities to celebrate those living in recovery and to remember those loved ones we have not forgotten. Coalitions in Malden\, Medford\, Melrose\, Reading\, Stoneham\, Wakefield and Winchester have organized this special event to offer opportunities for networking\, learning and remembering. \nSchedule of Events \n6:00-6:15 pm- Networking\, Info tables and Decorate a candle bag for a loved one activity \n6:15-6:45 pm- Speakers (celebrating recovery\, family support) \n6:45-7:00 pm- Walk to Remember & Purple Ribbon Display \n7:00-7:30 pm- Candlelight vigil walk around the common \nWant to volunteer or host a table\, click here https://bit.ly/3OKljlH \nWant to remember a loved one\, click here https://bit.ly/3OKljlH \nFor more information on this event\, contact Erica McNamara\, MPH\, Director\, Reading Coalition for Prevention & Support at emcnamara@ci.reading.ma.us
URL:https://www.readingrecap.com/event/mvphc-recovery-remembrance-event/
LOCATION:Town Common\, 680 Main Street\, Reading\, MA\, 01867\, United States
CATEGORIES:Coalition for Prevention & Support
ATTACH;FMTTYPE=image/webp:https://www.readingrecap.com/wp-content/uploads/2022/09/MVPHC-Recovery-Remembrance-Flyer.webp
ORGANIZER;CN="Mystic Valley Public Health Coalition":MAILTO:mvroap@gmail.com
END:VEVENT
END:VCALENDAR