BEGIN:VCALENDAR
VERSION:2.0
PRODID:-//Recapping Everything in Reading, MA - ECPv6.15.20//NONSGML v1.0//EN
CALSCALE:GREGORIAN
METHOD:PUBLISH
X-ORIGINAL-URL:https://www.readingrecap.com
X-WR-CALDESC:Events for Recapping Everything in Reading, MA
REFRESH-INTERVAL;VALUE=DURATION:PT1H
X-Robots-Tag:noindex
X-PUBLISHED-TTL:PT1H
BEGIN:VTIMEZONE
TZID:America/New_York
BEGIN:DAYLIGHT
TZOFFSETFROM:-0500
TZOFFSETTO:-0400
TZNAME:EDT
DTSTART:20210314T070000
END:DAYLIGHT
BEGIN:STANDARD
TZOFFSETFROM:-0400
TZOFFSETTO:-0500
TZNAME:EST
DTSTART:20211107T060000
END:STANDARD
BEGIN:DAYLIGHT
TZOFFSETFROM:-0500
TZOFFSETTO:-0400
TZNAME:EDT
DTSTART:20220313T070000
END:DAYLIGHT
BEGIN:STANDARD
TZOFFSETFROM:-0400
TZOFFSETTO:-0500
TZNAME:EST
DTSTART:20221106T060000
END:STANDARD
BEGIN:DAYLIGHT
TZOFFSETFROM:-0500
TZOFFSETTO:-0400
TZNAME:EDT
DTSTART:20230312T070000
END:DAYLIGHT
BEGIN:STANDARD
TZOFFSETFROM:-0400
TZOFFSETTO:-0500
TZNAME:EST
DTSTART:20231105T060000
END:STANDARD
END:VTIMEZONE
BEGIN:VEVENT
DTSTART;TZID=America/New_York:20220904T080000
DTEND;TZID=America/New_York:20220921T080000
DTSTAMP:20260425T220357
CREATED:20220905T022742Z
LAST-MODIFIED:20220905T023124Z
UID:10000076-1662278400-1663747200@www.readingrecap.com
SUMMARY:Friends of Reading Field Hockey Raffle
DESCRIPTION:Are you having labor day parties and noticing your cooler won’t make it to next season? Or maybe you’ve had a great beach/pool summer and your hair could use a little TLC? Well the Reading High Field Hockey teams have just the solution!\nThey are raffling off two great items to support their teams; A Yeti Cooler and Living proof hair-care products.\n  \n1 Ticket for $10 or 3 for $20\n  \nYou can Venmo @caryn-hayes-3 if you’d like tickets or reach out to any team member!\nHave a safe holiday weekend and thank you for your support.
URL:https://www.readingrecap.com/event/friends-of-reading-field-hockey-raffle/
LOCATION:Online
CATEGORIES:Fundraiser
ATTACH;FMTTYPE=image/webp:https://www.readingrecap.com/wp-content/uploads/2022/09/Reading-Field-Hockey.webp
END:VEVENT
END:VCALENDAR